BEGIN:VCALENDAR
VERSION:2.0
PRODID:-//Brewers Anonymous - ECPv6.15.20//NONSGML v1.0//EN
CALSCALE:GREGORIAN
METHOD:PUBLISH
X-ORIGINAL-URL:https://brewersanonymous.org
X-WR-CALDESC:Events for Brewers Anonymous
REFRESH-INTERVAL;VALUE=DURATION:PT1H
X-Robots-Tag:noindex
X-PUBLISHED-TTL:PT1H
BEGIN:VTIMEZONE
TZID:America/New_York
BEGIN:DAYLIGHT
TZOFFSETFROM:-0500
TZOFFSETTO:-0400
TZNAME:EDT
DTSTART:20240310T070000
END:DAYLIGHT
BEGIN:STANDARD
TZOFFSETFROM:-0400
TZOFFSETTO:-0500
TZNAME:EST
DTSTART:20241103T060000
END:STANDARD
BEGIN:DAYLIGHT
TZOFFSETFROM:-0500
TZOFFSETTO:-0400
TZNAME:EDT
DTSTART:20250309T070000
END:DAYLIGHT
BEGIN:STANDARD
TZOFFSETFROM:-0400
TZOFFSETTO:-0500
TZNAME:EST
DTSTART:20251102T060000
END:STANDARD
BEGIN:DAYLIGHT
TZOFFSETFROM:-0500
TZOFFSETTO:-0400
TZNAME:EDT
DTSTART:20260308T070000
END:DAYLIGHT
BEGIN:STANDARD
TZOFFSETFROM:-0400
TZOFFSETTO:-0500
TZNAME:EST
DTSTART:20261101T060000
END:STANDARD
END:VTIMEZONE
BEGIN:VEVENT
DTSTART;TZID=America/New_York:20251025T120000
DTEND;TZID=America/New_York:20251025T170000
DTSTAMP:20260420T112842
CREATED:20250815T192308Z
LAST-MODIFIED:20250815T192308Z
UID:1683-1761393600-1761411600@brewersanonymous.org
SUMMARY:Space Coast Brew Fest
DESCRIPTION:Come see us at the Space Coast Brew Fest! \nWe’ll be there with out usual line up of unusual and unique beers! \nAbout the event: \nNorth Brevard Rotary Club is presenting our 4th Annual Space Coast Brew Fest! All proceeds go to North Brevard Rotary to support our many ongoing and new charities we support through out the community. Anticipating well over 30 Breweries\, select vendors\, food trucks and Music!
URL:https://brewersanonymous.org/event/space-coast-brew-fest/
LOCATION:Sand Point Park\, 101 N Washington Ave\, Titusville\, FL\, 32796\, United States
CATEGORIES:Festivals
ATTACH;FMTTYPE=image/jpeg:https://brewersanonymous.org/wp-content/uploads/2025/08/spaceCoast.jpg
END:VEVENT
BEGIN:VEVENT
DTSTART;TZID=America/New_York:20251025T160000
DTEND;TZID=America/New_York:20251025T200000
DTSTAMP:20260420T112842
CREATED:20250815T192743Z
LAST-MODIFIED:20250815T192743Z
UID:1687-1761408000-1761422400@brewersanonymous.org
SUMMARY:Windermere Craft Beer Fest Re-Tapped
DESCRIPTION:We will be at the return of the Windermere Craft Beer Fest! \nCome out and see our unique lineup of beers you can ONLY sample at this festival! \nAbout this fest: \nWe’re back—and better than ever! After a long intermission (thanks\, 2020)\, the Windermere Craft Beer Fest is tapping into Downtown Windermere once again this October for an unforgettable day of beer\, bites\, and community vibes. \nStill 100% NOT FOR PROFIT and proudly VOLUNTEER ORGANIZED\, this event benefits the Windermere Police Department Foundation\, Inc. \nIf you’ve joined us before\, welcome back—we missed you! And if you’re new to the scene\, get ready: this isn’t a rowdy free-for-all. WCBF is a sampling-style event showcasing some of Florida’s best local breweries in a chill\, scenic setting. Expect small pours\, big flavors\, and a crowd that truly appreciates the craft. \nLive music? Check.\nTasty food vendors? You bet.\nCraft beer that’ll expand your palate? Absolutely. \nWhether you’re a seasoned craft beer connoisseur or just curious what the hype is about\, you’ll find something to love here. And for those who like to sip in style\, VIP tickets offer exclusive access to A/C\, a private restroom\, and some solid festival swag. \nLet’s raise a glass to the return of a local legend. \nGeneral Admission: $35 (subject to availability) \nVIP Admission: $50 (includes perks & limited availability) \nTicket prices increase another $5 at the door (subject to availability). Buy online and\nsave! \nT-Shirts are also available! Get 10% off when you pre-order with your ticket purchase!
URL:https://brewersanonymous.org/event/windermere-craft-beer-fest-re-tapped/
LOCATION:Downtown Widermere\, 520 Main Street\, Windermere\, Florida\, 34786
CATEGORIES:Festivals
ATTACH;FMTTYPE=image/jpeg:https://brewersanonymous.org/wp-content/uploads/2025/08/windermere.jpg
END:VEVENT
END:VCALENDAR