BEGIN:VCALENDAR
VERSION:2.0
PRODID:-//Brewers Anonymous - ECPv6.15.20//NONSGML v1.0//EN
CALSCALE:GREGORIAN
METHOD:PUBLISH
X-ORIGINAL-URL:https://brewersanonymous.org
X-WR-CALDESC:Events for Brewers Anonymous
REFRESH-INTERVAL;VALUE=DURATION:PT1H
X-Robots-Tag:noindex
X-PUBLISHED-TTL:PT1H
BEGIN:VTIMEZONE
TZID:America/New_York
BEGIN:DAYLIGHT
TZOFFSETFROM:-0500
TZOFFSETTO:-0400
TZNAME:EDT
DTSTART:20230312T070000
END:DAYLIGHT
BEGIN:STANDARD
TZOFFSETFROM:-0400
TZOFFSETTO:-0500
TZNAME:EST
DTSTART:20231105T060000
END:STANDARD
BEGIN:DAYLIGHT
TZOFFSETFROM:-0500
TZOFFSETTO:-0400
TZNAME:EDT
DTSTART:20240310T070000
END:DAYLIGHT
BEGIN:STANDARD
TZOFFSETFROM:-0400
TZOFFSETTO:-0500
TZNAME:EST
DTSTART:20241103T060000
END:STANDARD
BEGIN:DAYLIGHT
TZOFFSETFROM:-0500
TZOFFSETTO:-0400
TZNAME:EDT
DTSTART:20250309T070000
END:DAYLIGHT
BEGIN:STANDARD
TZOFFSETFROM:-0400
TZOFFSETTO:-0500
TZNAME:EST
DTSTART:20251102T060000
END:STANDARD
END:VTIMEZONE
BEGIN:VEVENT
DTSTART;TZID=America/New_York:20240406T150000
DTEND;TZID=America/New_York:20240406T190000
DTSTAMP:20260421T134224
CREATED:20240211T173430Z
LAST-MODIFIED:20240421T200248Z
UID:111-1712415600-1712430000@brewersanonymous.org
SUMMARY:Hamlin Craft Beer Festival
DESCRIPTION:The inaugural Hamlin Craft Beer Festival kicks off this year with a variety of craft breweries\, pouring 40+ varieties of beer\, ciders and more from local\, regional and national breweries and companies. \nMore than beer – visit the Hamlin Cruise-In Car Show featuring 90’s and earlier classic cars. Plus\, play in a giant interactive game zone with miniature golf\, giant beer pong and many more surprises. Also\, check out our dozens of local artisans\, vendors and businesses\, and bring your four-legged friends along – our event is dog friendly! The car show\, vendor area and food trucks will be open to the general public – no ticket required! \nVIP enters one hour early at 3pm\, getting first access to all the tasty beverages. Also included is an exclusive VIP area\, featuring tables\, seating and restrooms\, complimentary bites\, an exclusive tasting\, commemorative glass and more!
URL:https://brewersanonymous.org/event/hamlin-craft-beer-festival/
LOCATION:Hamlin Green Space\, 14111 shoreside way\, Winter Garden\, FL\, 34787\, United States
CATEGORIES:Festivals
ATTACH;FMTTYPE=image/jpeg:https://brewersanonymous.org/wp-content/uploads/2024/02/eventsHamlinBeerFest24.jpg
END:VEVENT
END:VCALENDAR