BEGIN:VCALENDAR
VERSION:2.0
PRODID:-//Brewers Anonymous - ECPv6.15.20//NONSGML v1.0//EN
CALSCALE:GREGORIAN
METHOD:PUBLISH
X-ORIGINAL-URL:https://brewersanonymous.org
X-WR-CALDESC:Events for Brewers Anonymous
REFRESH-INTERVAL;VALUE=DURATION:PT1H
X-Robots-Tag:noindex
X-PUBLISHED-TTL:PT1H
BEGIN:VTIMEZONE
TZID:America/New_York
BEGIN:DAYLIGHT
TZOFFSETFROM:-0500
TZOFFSETTO:-0400
TZNAME:EDT
DTSTART:20240310T070000
END:DAYLIGHT
BEGIN:STANDARD
TZOFFSETFROM:-0400
TZOFFSETTO:-0500
TZNAME:EST
DTSTART:20241103T060000
END:STANDARD
BEGIN:DAYLIGHT
TZOFFSETFROM:-0500
TZOFFSETTO:-0400
TZNAME:EDT
DTSTART:20250309T070000
END:DAYLIGHT
BEGIN:STANDARD
TZOFFSETFROM:-0400
TZOFFSETTO:-0500
TZNAME:EST
DTSTART:20251102T060000
END:STANDARD
BEGIN:DAYLIGHT
TZOFFSETFROM:-0500
TZOFFSETTO:-0400
TZNAME:EDT
DTSTART:20260308T070000
END:DAYLIGHT
BEGIN:STANDARD
TZOFFSETFROM:-0400
TZOFFSETTO:-0500
TZNAME:EST
DTSTART:20261101T060000
END:STANDARD
END:VTIMEZONE
BEGIN:VEVENT
DTSTART;TZID=America/New_York:20250329T130000
DTEND;TZID=America/New_York:20250329T170000
DTSTAMP:20260414T021938
CREATED:20250110T000613Z
LAST-MODIFIED:20250309T230716Z
UID:927-1743253200-1743267600@brewersanonymous.org
SUMMARY:Pints n' Paws Craft Beer Festival
DESCRIPTION:Brewers Anonymous will be once again pouring our popular and unique beers are the 13th Annual Pints n’ Paws Craft Beer Festival in Sanford\, FL\, March 29th\, 2025! \nGet ready for the 13th Annual Pints n’ Paws Craft Beer Festival presented by Hounds Town in the heart of Historic Downtown Sanford!\n\nMark your calendars for Saturday\, March 29th\, 2025\, and meet us in the famous L between West End Trading Co. and Celery City Craft!\n\nThis isn’t just any beer fest—it’s a paw-ty with a purpose! Bring your four-legged BFF\, sip on craft brews from 100+ amazing breweries\, feast on food from Orlando’s top food trucks\, groove to live music\, and join a community of animal lovers all while raising funds for local pet rescue charities!\n\n\n$50 Advance General Admission Tickets (must purchase by 3/28/25)$60 General Admission Ticket on the day of the event\nVIP Ticketing Info:$90 Advance VIP Ticket (must purchase by 3/28/25)$100 VIP Ticket on the day of the event
URL:https://brewersanonymous.org/event/pints-n-paws-craft-beer-festival/
LOCATION:West End Trading Co\, 202 S Sanford Ave\, Sanford\, FL\, 32771\, United States
CATEGORIES:Festivals
ATTACH;FMTTYPE=image/jpeg:https://brewersanonymous.org/wp-content/uploads/2025/03/pintsNpaws2025.jpg
END:VEVENT
BEGIN:VEVENT
DTSTART;TZID=America/New_York:20250329T150000
DTEND;TZID=America/New_York:20250329T190000
DTSTAMP:20260414T021938
CREATED:20240117T144741Z
LAST-MODIFIED:20250309T230806Z
UID:840-1743260400-1743274800@brewersanonymous.org
SUMMARY:Hamlin Craft Beer Festival
DESCRIPTION:Join Brewers Anonymous at the Hamlin Craft Beer Festival! This is likely be our biggest event with the most beers server from our tent to date as we attempt to repeat win of best festival tent! Stop by for a wide selection of unique and once on a life time beers! \nMark your calendars\, invite your friends\, and get ready for a brew-tiful day of craft beer\, fun\, and festivities at the second annual Hamlin Craft Beer Festival!\n\nThis event is the ultimate celebration of Florida’s finest craft brews\, an experience you won’t want to miss. Produced by Legacy Events for Education in partnership with the Orange Observer\, this event is a charity fundraising event to fund scholarships and grants for local high school students in western Orange County!\n\nWhat to Expect:\n\n• Unlimited Beer Sampling• Interactive Games• Craft Fair with Local Artisans• Groovy Tunes by a Live DJ• Hamlin Cruise-In Car Show• Delectable Food Trucks• And Much More!
URL:https://brewersanonymous.org/event/hamlin-craft-beer-festival-2/
LOCATION:Hamlin Green Space\, 14111 shoreside way\, Winter Garden\, FL\, 34787\, United States
CATEGORIES:Festivals
ATTACH;FMTTYPE=image/jpeg:https://brewersanonymous.org/wp-content/uploads/2024/12/hamlint2025.jpg
END:VEVENT
END:VCALENDAR