BEGIN:VCALENDAR
VERSION:2.0
PRODID:-//Brewers Anonymous - ECPv6.15.20//NONSGML v1.0//EN
CALSCALE:GREGORIAN
METHOD:PUBLISH
X-ORIGINAL-URL:https://brewersanonymous.org
X-WR-CALDESC:Events for Brewers Anonymous
REFRESH-INTERVAL;VALUE=DURATION:PT1H
X-Robots-Tag:noindex
X-PUBLISHED-TTL:PT1H
BEGIN:VTIMEZONE
TZID:America/New_York
BEGIN:DAYLIGHT
TZOFFSETFROM:-0500
TZOFFSETTO:-0400
TZNAME:EDT
DTSTART:20240310T070000
END:DAYLIGHT
BEGIN:STANDARD
TZOFFSETFROM:-0400
TZOFFSETTO:-0500
TZNAME:EST
DTSTART:20241103T060000
END:STANDARD
BEGIN:DAYLIGHT
TZOFFSETFROM:-0500
TZOFFSETTO:-0400
TZNAME:EDT
DTSTART:20250309T070000
END:DAYLIGHT
BEGIN:STANDARD
TZOFFSETFROM:-0400
TZOFFSETTO:-0500
TZNAME:EST
DTSTART:20251102T060000
END:STANDARD
BEGIN:DAYLIGHT
TZOFFSETFROM:-0500
TZOFFSETTO:-0400
TZNAME:EDT
DTSTART:20260308T070000
END:DAYLIGHT
BEGIN:STANDARD
TZOFFSETFROM:-0400
TZOFFSETTO:-0500
TZNAME:EST
DTSTART:20261101T060000
END:STANDARD
END:VTIMEZONE
BEGIN:VEVENT
DTSTART;TZID=America/New_York:20250125T120000
DTEND;TZID=America/New_York:20250125T160000
DTSTAMP:20260420T233023
CREATED:20241209T143314Z
LAST-MODIFIED:20241213T144545Z
UID:831-1737806400-1737820800@brewersanonymous.org
SUMMARY:Science on Tap Beer Festival
DESCRIPTION:Hop in for an afternoon of brews\, food\, and science while supporting a good cause!\nJoin Brewers Anonymous at Science on Tap at the Orlando Science Center. We will be on hand once again to serve our popular and unique beers! Stop by for a once in a lifetime beer\, learn more about the club\, and that our “What’s the Hop” sensory challenge! \nThis fundraiser features over 30 local breweries from around Central Florida who will be sampling some of their best brews. Enjoy this family-friendly event as you sip your way through interactive science demos\, check out live music\, challenge your kids or your friends to fun lawn games\, and delight in a few tasty treats purchased from several popular food trucks. \nProceeds from this event enable Orlando Science Center to inspire science learning for life through engaging experiences that build important skills and illustrate the power of science to address real world challenges. Thank you for your support!
URL:https://brewersanonymous.org/event/science-on-tap-beer-festival/
LOCATION:Loch Haven Park\, 777 E Princeton St\, Orlando\, Florida\, 32803
CATEGORIES:Festivals
ATTACH;FMTTYPE=image/jpeg:https://brewersanonymous.org/wp-content/uploads/2024/12/science-of-tap-2025.jpg
END:VEVENT
END:VCALENDAR