BEGIN:VCALENDAR
VERSION:2.0
PRODID:-//Brewers Anonymous - ECPv6.15.20//NONSGML v1.0//EN
CALSCALE:GREGORIAN
METHOD:PUBLISH
X-WR-CALNAME:Brewers Anonymous
X-ORIGINAL-URL:https://brewersanonymous.org
X-WR-CALDESC:Events for Brewers Anonymous
REFRESH-INTERVAL;VALUE=DURATION:PT1H
X-Robots-Tag:noindex
X-PUBLISHED-TTL:PT1H
BEGIN:VTIMEZONE
TZID:America/New_York
BEGIN:DAYLIGHT
TZOFFSETFROM:-0500
TZOFFSETTO:-0400
TZNAME:EDT
DTSTART:20240310T070000
END:DAYLIGHT
BEGIN:STANDARD
TZOFFSETFROM:-0400
TZOFFSETTO:-0500
TZNAME:EST
DTSTART:20241103T060000
END:STANDARD
BEGIN:DAYLIGHT
TZOFFSETFROM:-0500
TZOFFSETTO:-0400
TZNAME:EDT
DTSTART:20250309T070000
END:DAYLIGHT
BEGIN:STANDARD
TZOFFSETFROM:-0400
TZOFFSETTO:-0500
TZNAME:EST
DTSTART:20251102T060000
END:STANDARD
BEGIN:DAYLIGHT
TZOFFSETFROM:-0500
TZOFFSETTO:-0400
TZNAME:EDT
DTSTART:20260308T070000
END:DAYLIGHT
BEGIN:STANDARD
TZOFFSETFROM:-0400
TZOFFSETTO:-0500
TZNAME:EST
DTSTART:20261101T060000
END:STANDARD
END:VTIMEZONE
BEGIN:VEVENT
DTSTART;TZID=America/New_York:20250221T190000
DTEND;TZID=America/New_York:20250221T210000
DTSTAMP:20260421T004424
CREATED:20241212T172729Z
LAST-MODIFIED:20250309T222018Z
UID:890-1740164400-1740171600@brewersanonymous.org
SUMMARY:February 2025 Meeting
DESCRIPTION:Join us for our February\, 2025 meeting! We’ll recap that start of the 2025 festival season\, at a look at what events are coming next\, and how our first inter-club competition for the year with Florida Cascade Hop Pale Ales! \nThis month’s meeting is at Ivanhoe Park Lager House. Social starts at 7:00 PM\, presentation begins at 7:30. \n 
URL:https://brewersanonymous.org/event/february-2025-meeting/
LOCATION:Ivanhoe Park Lager House\, 23 N Orange Blossom Trl\, Orlando\, FL\, 32805\, United States
CATEGORIES:Meetings
ATTACH;FMTTYPE=image/jpeg:https://brewersanonymous.org/wp-content/uploads/2024/01/IPLH-BA-meetingsFeb25.jpg
END:VEVENT
END:VCALENDAR