BEGIN:VCALENDAR
VERSION:2.0
PRODID:-//Brewers Anonymous - ECPv6.15.20//NONSGML v1.0//EN
CALSCALE:GREGORIAN
METHOD:PUBLISH
X-ORIGINAL-URL:https://brewersanonymous.org
X-WR-CALDESC:Events for Brewers Anonymous
REFRESH-INTERVAL;VALUE=DURATION:PT1H
X-Robots-Tag:noindex
X-PUBLISHED-TTL:PT1H
BEGIN:VTIMEZONE
TZID:America/New_York
BEGIN:DAYLIGHT
TZOFFSETFROM:-0500
TZOFFSETTO:-0400
TZNAME:EDT
DTSTART:20240310T070000
END:DAYLIGHT
BEGIN:STANDARD
TZOFFSETFROM:-0400
TZOFFSETTO:-0500
TZNAME:EST
DTSTART:20241103T060000
END:STANDARD
BEGIN:DAYLIGHT
TZOFFSETFROM:-0500
TZOFFSETTO:-0400
TZNAME:EDT
DTSTART:20250309T070000
END:DAYLIGHT
BEGIN:STANDARD
TZOFFSETFROM:-0400
TZOFFSETTO:-0500
TZNAME:EST
DTSTART:20251102T060000
END:STANDARD
BEGIN:DAYLIGHT
TZOFFSETFROM:-0500
TZOFFSETTO:-0400
TZNAME:EDT
DTSTART:20260308T070000
END:DAYLIGHT
BEGIN:STANDARD
TZOFFSETFROM:-0400
TZOFFSETTO:-0500
TZNAME:EST
DTSTART:20261101T060000
END:STANDARD
END:VTIMEZONE
BEGIN:VEVENT
DTSTART;TZID=America/New_York:20250117T190000
DTEND;TZID=America/New_York:20250117T210000
DTSTAMP:20260421T022718
CREATED:20241212T195940Z
LAST-MODIFIED:20241212T195940Z
UID:825-1737140400-1737147600@brewersanonymous.org
SUMMARY:January 2025 Meeting
DESCRIPTION:Join us for our January Club Meeting at Home State Brewing Co. \nSocial begins at 7:00 PM\, meeting presentation begins at 7:30 PM.
URL:https://brewersanonymous.org/event/january-2025-meeting/
LOCATION:Home State Brewing Co.\, 16016 New Independence Pkwy #100\, Winter Garden\, Florida\, 34787
CATEGORIES:Meetings
ATTACH;FMTTYPE=image/jpeg:https://brewersanonymous.org/wp-content/uploads/2024/12/jan2025meeting.jpg
END:VEVENT
END:VCALENDAR